BEGIN:VCALENDAR
VERSION:2.0
PRODID:-//De Ark - ECPv6.15.20//NONSGML v1.0//EN
CALSCALE:GREGORIAN
METHOD:PUBLISH
X-WR-CALNAME:De Ark
X-ORIGINAL-URL:https://dearktiel.nl
X-WR-CALDESC:Evenementen voor De Ark
REFRESH-INTERVAL;VALUE=DURATION:PT1H
X-Robots-Tag:noindex
X-PUBLISHED-TTL:PT1H
BEGIN:VTIMEZONE
TZID:Europe/Amsterdam
BEGIN:DAYLIGHT
TZOFFSETFROM:+0100
TZOFFSETTO:+0200
TZNAME:CEST
DTSTART:20230326T010000
END:DAYLIGHT
BEGIN:STANDARD
TZOFFSETFROM:+0200
TZOFFSETTO:+0100
TZNAME:CET
DTSTART:20231029T010000
END:STANDARD
BEGIN:DAYLIGHT
TZOFFSETFROM:+0100
TZOFFSETTO:+0200
TZNAME:CEST
DTSTART:20240331T010000
END:DAYLIGHT
BEGIN:STANDARD
TZOFFSETFROM:+0200
TZOFFSETTO:+0100
TZNAME:CET
DTSTART:20241027T010000
END:STANDARD
BEGIN:DAYLIGHT
TZOFFSETFROM:+0100
TZOFFSETTO:+0200
TZNAME:CEST
DTSTART:20250330T010000
END:DAYLIGHT
BEGIN:STANDARD
TZOFFSETFROM:+0200
TZOFFSETTO:+0100
TZNAME:CET
DTSTART:20251026T010000
END:STANDARD
END:VTIMEZONE
BEGIN:VEVENT
DTSTART;TZID=Europe/Amsterdam:20240915T103000
DTEND;TZID=Europe/Amsterdam:20240915T120000
DTSTAMP:20260421T185518
CREATED:20240913T151451Z
LAST-MODIFIED:20240914T104440Z
UID:2480-1726396200-1726401600@dearktiel.nl
SUMMARY:Samenkomst | Gerrit Burggraaf
DESCRIPTION:
URL:https://dearktiel.nl/event/samenkomst-gerrit-burggraaf/
LOCATION:Vijverlaan 1A 4005 HA Tiel\, Nederland\n4005 HA Tiel\, Nederland
CATEGORIES:Samenkomst
ATTACH;FMTTYPE=image/webp:/wp-content/uploads/2023/11/MG_7029web.webp
END:VEVENT
END:VCALENDAR